Workbook

Sheet Bon de commande réunion
C1: nom du client | D1: nom du client | E1: nom du client | F1: nom du client | G1: nom du client | H1: nom du client | I1: nom du client | J1: nom du client | K1: nom du client | L1: nom du client | M1: nom du client | N1: nom du client | O1: nom du client | P1: nom du client | Q1: nom du client | R1: nom du client | S1: nom du client | T1: nom du client | U1: nom du client | V1: nom du client | W1: nom du client | X1: nom du client | Y1: Total de pièces | Z1: € | AA1: Valeur pour calcul en formation | AB1: Valeur pour autonomie
A2: A payer par le client | C2: =SUM(C3:C19)*$B$3+C20*$B$20+C21*$B$21+C22*$B$22+C23*$B$23+C24*$B$24+C25*$B$25+C26*$B$26+C27*$B$27+SUM(C28:C34)*$B$28 -> 0 | D2: =SUM(D3:D19)*$B$3+D20*$B$20+D21*$B$21+D22*$B$22+D23*$B$23+D24*$B$24+D25*$B$25+D26*$B$26+D27*$B$27+SUM(D28:D34)*$B$28 -> 0 | E2: =SUM(E3:E19)*$B$3+E20*$B$20+E21*$B$21+E22*$B$22+E23*$B$23+E24*$B$24+E25*$B$25+E26*$B$26+E27*$B$27+SUM(E28:E34)*$B$28 -> 0 | F2: =SUM(F3:F19)*$B$3+F20*$B$20+F21*$B$21+F22*$B$22+F23*$B$23+F24*$B$24+F25*$B$25+F26*$B$26+F27*$B$27+SUM(F28:F34)*$B$28 -> 0 | G2: =SUM(G3:G19)*$B$3+G20*$B$20+G21*$B$21+G22*$B$22+G23*$B$23+G24*$B$24+G25*$B$25+G26*$B$26+G27*$B$27+SUM(G28:G34)*$B$28 -> 0 | H2: =SUM(H3:H19)*$B$3+H20*$B$20+H21*$B$21+H22*$B$22+H23*$B$23+H24*$B$24+H25*$B$25+H26*$B$26+H27*$B$27+SUM(H28:H34)*$B$28 -> 0 | I2: =SUM(I3:I19)*$B$3+I20*$B$20+I21*$B$21+I22*$B$22+I23*$B$23+I24*$B$24+I25*$B$25+I26*$B$26+I27*$B$27+SUM(I28:I34)*$B$28 -> 0 | J2: =SUM(J3:J19)*$B$3+J20*$B$20+J21*$B$21+J22*$B$22+J23*$B$23+J24*$B$24+J25*$B$25+J26*$B$26+J27*$B$27+SUM(J28:J34)*$B$28 -> 0 | ... X2: =SUM(X3:X19)*$B$3+X20*$B$20+X21*$B$21+X22*$B$22+X23*$B$23+X24*$B$24+X25*$B$25+X26*$B$26+X27*$B$27+SUM(X28:X34)*$B$28 -> 0 | Y2: =SUM(Y3:Y34) -> 0 | Z2: =SUM(Z3:Z34) -> 0
A3: Barbapapa | B3: 8.5 | Y3: =IF(SUM(C3:X3)>0,SUM(C3:X3),"") | Z3: =IF(Y3="","",(Y3*B3)) | AA3: =SUM(Z3:Z19)*0.09 -> 0 | AB3: =SUM(Z3:Z19)*0.24 -> 0
A4: Babylone | B4: 8.5 | Y4: =IF(SUM(C4:X4)>0,SUM(C4:X4),"") | Z4: =IF(Y4="","",(Y4*B4))
A5: C. à Manille | B5: 8.5 | Y5: =IF(SUM(C5:X5)>0,SUM(C5:X5),"") | Z5: =IF(Y5="","",(Y5*B5))
A6: C. à Winterfell | B6: 8.5 | Y6: =IF(SUM(C6:X6)>0,SUM(C6:X6),"") | Z6: =IF(Y6="","",(Y6*B6))
A7: Casimir | B7: 8.5 | Y7: =IF(SUM(C7:X7)>0,SUM(C7:X7),"") | Z7: =IF(Y7="","",(Y7*B7))
A8: Champs de blé | B8: 8.5 | Y8: =IF(SUM(C8:X8)>0,SUM(C8:X8),"") | Z8: =IF(Y8="","",(Y8*B8))
A9: Cheng | B9: 8.5 | Y9: =IF(SUM(C9:X9)>0,SUM(C9:X9),"") | Z9: =IF(Y9="","",(Y9*B9))
A10: Crixus | B10: 8.5 | Y10: =IF(SUM(C10:X10)>0,SUM(C10:X10),"") | Z10: =IF(Y10="","",(Y10*B10))
A11: Agrumes | B11: 8.5 | Y11: =IF(SUM(C11:X11)>0,SUM(C11:X11),"") | Z11: =IF(Y11="","",(Y11*B11))
A12: Erik | B12: 8.5 | Y12: =IF(SUM(C12:X12)>0,SUM(C12:X12),"") | Z12: =IF(Y12="","",(Y12*B12))
A13: Hollywood | B13: 8.5 | Y13: =IF(SUM(C13:X13)>0,SUM(C13:X13),"") | Z13: =IF(Y13="","",(Y13*B13))
A14: Litsée | B14: 8.5 | Y14: =IF(SUM(C14:X14)>0,SUM(C14:X14),"") | Z14: =IF(Y14="","",(Y14*B14))
A15: Maya | B15: 8.5 | Y15: =IF(SUM(C15:X15)>0,SUM(C15:X15),"") | Z15: =IF(Y15="","",(Y15*B15))
... A19: Youki | B19: 8.5 | Y19: =IF(SUM(C19:X19)>0,SUM(C19:X19),"") | Z19: =IF(Y19="","",(Y19*B19))
A20: Huile de massage muscu | B20: 23 | Y20: =IF(SUM(C20:X20)>0,SUM(C20:X20),"") | Z20: =IF(Y20="","",(Y20*B20)) | AA20: =SUM(Z20:Z27)*0.2 -> 0 | AB20: =SUM(Z20:Z27)*0.35 -> 0
A21: Huile de massage relax | B21: 21 | Y21: =IF(SUM(C21:X21)>0,SUM(C21:X21),"") | Z21: =IF(Y21="","",(Y21*B21))
A22: Huile de massage D&N | B22: 25 | Y22: =IF(SUM(C22:X22)>0,SUM(C22:X22),"") | Z22: =IF(Y22="","",(Y22*B22))
A23: Baume corps | B23: 45 | Y23: =IF(SUM(C23:X23)>0,SUM(C23:X23),"") | Z23: =IF(Y23="","",(Y23*B23))
A24: Baume visage | B24: 35 | Y24: =IF(SUM(C24:X24)>0,SUM(C24:X24),"") | Z24: =IF(Y24="","",(Y24*B24))
A25: Sérum hydratant | B25: 30 | Y25: =IF(SUM(C25:X25)>0,SUM(C25:X25),"") | Z25: =IF(Y25="","",(Y25*B25))
A26: Sérum régulateur | B26: 30 | Y26: =IF(SUM(C26:X26)>0,SUM(C26:X26),"") | Z26: =IF(Y26="","",(Y26*B26))
A27: Gommage | B27: 18 | Y27: =IF(SUM(C27:X27)>0,SUM(C27:X27),"") | Z27: =IF(Y27="","",(Y27*B27))
A28: Apaisée | B28: 49.58 | Y28: =IF(SUM(C28:X28)>0,SUM(C28:X28),"") | Z28: =IF(Y28="","",(Y28*B28)) | AA28: =SUM(Z28:Z34)*0.13 -> 0 | AB28: =SUM(Z28:Z34)*0.28 -> 0
A29: Détendue | B29: 49.58 | Y29: =IF(SUM(C29:X29)>0,SUM(C29:X29),"") | Z29: =IF(Y29="","",(Y29*B29))
A30: Essentielle | B30: 49.58 | Y30: =IF(SUM(C30:X30)>0,SUM(C30:X30),"") | Z30: =IF(Y30="","",(Y30*B30))
A31: Pure | B31: 49.58 | Y31: =IF(SUM(C31:X31)>0,SUM(C31:X31),"") | Z31: =IF(Y31="","",(Y31*B31))
A32: Rayonnante | B32: 49.58 | Y32: =IF(SUM(C32:X32)>0,SUM(C32:X32),"") | Z32: =IF(Y32="","",(Y32*B32))
A33: Réconfort | B33: 49.58 | Y33: =IF(SUM(C33:X33)>0,SUM(C33:X33),"") | Z33: =IF(Y33="","",(Y33*B33))
A34: Solaire | B34: 49.58 | Y34: =IF(SUM(C34:X34)>0,SUM(C34:X34),"") | Z34: =IF(Y34="","",(Y34*B34))

Sheet Données internes
A1: Facturation
A2: 3 premières | B2: =IF('Bon de commande réunion'!Z2<750,0,('Bon de commande réunion'!Z2-750)*0.24) -> 0
A3: Sous validation savoir conseiller | B3: ='Bon de commande réunion'!Z2*0.15 -> 0
A4: En Formation savoir vendre | B4: ='Bon de commande réunion'!Z2*0.15 -> 0 | C4: à décompter pour la formation | D4: =SUM('Bon de commande réunion'!AA:AA) -> 0 | E4: Solde de la formation | F4: =1000-SUM(H4:XFD4) -> 1000
A5: Autonomie commerciale | B5: =SUM('Bon de commande réunion'!AB:AB) -> 0
